BEGIN:VCALENDAR
VERSION:2.0
PRODID:-//Cevi Uster - ECPv6.15.17.1//NONSGML v1.0//EN
CALSCALE:GREGORIAN
METHOD:PUBLISH
X-WR-CALNAME:Cevi Uster
X-ORIGINAL-URL:https://www.cevi-uster.ch
X-WR-CALDESC:Veranstaltungen für Cevi Uster
REFRESH-INTERVAL;VALUE=DURATION:PT1H
X-Robots-Tag:noindex
X-PUBLISHED-TTL:PT1H
BEGIN:VTIMEZONE
TZID:Europe/Zurich
BEGIN:DAYLIGHT
TZOFFSETFROM:+0100
TZOFFSETTO:+0200
TZNAME:CEST
DTSTART:20240331T010000
END:DAYLIGHT
BEGIN:STANDARD
TZOFFSETFROM:+0200
TZOFFSETTO:+0100
TZNAME:CET
DTSTART:20241027T010000
END:STANDARD
BEGIN:DAYLIGHT
TZOFFSETFROM:+0100
TZOFFSETTO:+0200
TZNAME:CEST
DTSTART:20250330T010000
END:DAYLIGHT
BEGIN:STANDARD
TZOFFSETFROM:+0200
TZOFFSETTO:+0100
TZNAME:CET
DTSTART:20251026T010000
END:STANDARD
BEGIN:DAYLIGHT
TZOFFSETFROM:+0100
TZOFFSETTO:+0200
TZNAME:CEST
DTSTART:20260329T010000
END:DAYLIGHT
BEGIN:STANDARD
TZOFFSETFROM:+0200
TZOFFSETTO:+0100
TZNAME:CET
DTSTART:20261025T010000
END:STANDARD
BEGIN:DAYLIGHT
TZOFFSETFROM:+0100
TZOFFSETTO:+0200
TZNAME:CEST
DTSTART:20270328T010000
END:DAYLIGHT
BEGIN:STANDARD
TZOFFSETFROM:+0200
TZOFFSETTO:+0100
TZNAME:CET
DTSTART:20271031T010000
END:STANDARD
END:VTIMEZONE
BEGIN:VEVENT
DTSTART;TZID=Europe/Zurich:20251201T193000
DTEND;TZID=Europe/Zurich:20251201T220000
DTSTAMP:20260423T124035
CREATED:20250109T190222Z
LAST-MODIFIED:20250119T114334Z
UID:10000725-1764617400-1764626400@www.cevi-uster.ch
SUMMARY:Leitendenstamm Cevi-Kafi
DESCRIPTION:
URL:https://www.cevi-uster.ch/event/leitendenstamm-cevi-kafi-4/
CATEGORIES:AL-Team,Leiter,Stufenleiter
END:VEVENT
BEGIN:VEVENT
DTSTART;VALUE=DATE:20251206
DTEND;VALUE=DATE:20251207
DTSTAMP:20260423T124035
CREATED:20250119T111537Z
LAST-MODIFIED:20250119T114357Z
UID:10000779-1764979200-1765065599@www.cevi-uster.ch
SUMMARY:Cevi
DESCRIPTION:
URL:https://www.cevi-uster.ch/event/cevi-150/
CATEGORIES:Atlantis,Cherimoya,Damokles,Edregon,Izingo,Leiter,Manitu,Midgard,Pamoja,Sentiero,Stufen / Kids,Stufenleiter,Tiaki,Yaqqa
END:VEVENT
BEGIN:VEVENT
DTSTART;TZID=Europe/Zurich:20251208T191500
DTEND;TZID=Europe/Zurich:20251208T200000
DTSTAMP:20260423T124035
CREATED:20250109T185025Z
LAST-MODIFIED:20250109T185025Z
UID:10000693-1765221300-1765224000@www.cevi-uster.ch
SUMMARY:AL Höck Reserve
DESCRIPTION:
URL:https://www.cevi-uster.ch/event/al-hoeck-reserve/
CATEGORIES:AL-Team
END:VEVENT
BEGIN:VEVENT
DTSTART;TZID=Europe/Zurich:20251208T200000
DTEND;TZID=Europe/Zurich:20251208T213000
DTSTAMP:20260423T124035
CREATED:20250109T190316Z
LAST-MODIFIED:20250119T114412Z
UID:10000756-1765224000-1765229400@www.cevi-uster.ch
SUMMARY:Stulei Höck Reserve
DESCRIPTION:
URL:https://www.cevi-uster.ch/event/stulei-hoeck-reserve/
CATEGORIES:AL-Team,Stufenleiter
END:VEVENT
BEGIN:VEVENT
DTSTART;VALUE=DATE:20251213
DTEND;VALUE=DATE:20251214
DTSTAMP:20260423T124035
CREATED:20250119T111537Z
LAST-MODIFIED:20250119T114440Z
UID:10000780-1765584000-1765670399@www.cevi-uster.ch
SUMMARY:Cevi Weihnachten
DESCRIPTION:
URL:https://www.cevi-uster.ch/event/cevi-weihnachten-7/
CATEGORIES:AL-Team,Atlantis,Cherimoya,Damokles,Edregon,Fröschli,Izingo,Leiter,Manitu,Midgard,Pamoja,Sentiero,Stufen / Kids,Stufenleiter,Tiaki,Yaqqa
END:VEVENT
BEGIN:VEVENT
DTSTART;TZID=Europe/Zurich:20251219T190000
DTEND;TZID=Europe/Zurich:20251219T235900
DTSTAMP:20260423T124035
CREATED:20250109T190222Z
LAST-MODIFIED:20250119T114513Z
UID:10000726-1766170800-1766188740@www.cevi-uster.ch
SUMMARY:JAF
DESCRIPTION:
URL:https://www.cevi-uster.ch/event/jaf-6/
CATEGORIES:AL-Team,Leiter,Stufenleiter
END:VEVENT
BEGIN:VEVENT
DTSTART;VALUE=DATE:20251220
DTEND;VALUE=DATE:20260105
DTSTAMP:20260423T124035
CREATED:20250119T115901Z
LAST-MODIFIED:20250119T115901Z
UID:10000787-1766188800-1767571199@www.cevi-uster.ch
SUMMARY:Weihnachtsferien (kein Cevi)
DESCRIPTION:
URL:https://www.cevi-uster.ch/event/weihnachtsferien-kein-cevi/
CATEGORIES:Allgemein
END:VEVENT
END:VCALENDAR