BEGIN:VCALENDAR
VERSION:2.0
PRODID:-//Cevi Uster - ECPv6.15.17.1//NONSGML v1.0//EN
CALSCALE:GREGORIAN
METHOD:PUBLISH
X-WR-CALNAME:Cevi Uster
X-ORIGINAL-URL:https://www.cevi-uster.ch
X-WR-CALDESC:Veranstaltungen für Cevi Uster
REFRESH-INTERVAL;VALUE=DURATION:PT1H
X-Robots-Tag:noindex
X-PUBLISHED-TTL:PT1H
BEGIN:VTIMEZONE
TZID:Europe/Zurich
BEGIN:DAYLIGHT
TZOFFSETFROM:+0100
TZOFFSETTO:+0200
TZNAME:CEST
DTSTART:20240331T010000
END:DAYLIGHT
BEGIN:STANDARD
TZOFFSETFROM:+0200
TZOFFSETTO:+0100
TZNAME:CET
DTSTART:20241027T010000
END:STANDARD
BEGIN:DAYLIGHT
TZOFFSETFROM:+0100
TZOFFSETTO:+0200
TZNAME:CEST
DTSTART:20250330T010000
END:DAYLIGHT
BEGIN:STANDARD
TZOFFSETFROM:+0200
TZOFFSETTO:+0100
TZNAME:CET
DTSTART:20251026T010000
END:STANDARD
BEGIN:DAYLIGHT
TZOFFSETFROM:+0100
TZOFFSETTO:+0200
TZNAME:CEST
DTSTART:20260329T010000
END:DAYLIGHT
BEGIN:STANDARD
TZOFFSETFROM:+0200
TZOFFSETTO:+0100
TZNAME:CET
DTSTART:20261025T010000
END:STANDARD
BEGIN:DAYLIGHT
TZOFFSETFROM:+0100
TZOFFSETTO:+0200
TZNAME:CEST
DTSTART:20270328T010000
END:DAYLIGHT
BEGIN:STANDARD
TZOFFSETFROM:+0200
TZOFFSETTO:+0100
TZNAME:CET
DTSTART:20271031T010000
END:STANDARD
END:VTIMEZONE
BEGIN:VEVENT
DTSTART;VALUE=DATE:20251220
DTEND;VALUE=DATE:20260105
DTSTAMP:20260421T103222
CREATED:20250119T115901Z
LAST-MODIFIED:20250119T115901Z
UID:10000787-1766188800-1767571199@www.cevi-uster.ch
SUMMARY:Weihnachtsferien (kein Cevi)
DESCRIPTION:
URL:https://www.cevi-uster.ch/event/weihnachtsferien-kein-cevi/
CATEGORIES:Allgemein
END:VEVENT
BEGIN:VEVENT
DTSTART;TZID=Europe/Zurich:20260110T080000
DTEND;TZID=Europe/Zurich:20260110T160000
DTSTAMP:20260421T103222
CREATED:20251221T150822Z
LAST-MODIFIED:20251221T150822Z
UID:10000793-1768032000-1768060800@www.cevi-uster.ch
SUMMARY:Alpasa
DESCRIPTION:
URL:https://www.cevi-uster.ch/event/alpasa-2/
CATEGORIES:Leiter
END:VEVENT
BEGIN:VEVENT
DTSTART;TZID=Europe/Zurich:20260112T191500
DTEND;TZID=Europe/Zurich:20260112T200000
DTSTAMP:20260421T103222
CREATED:20251221T153005Z
LAST-MODIFIED:20251221T153005Z
UID:10000805-1768245300-1768248000@www.cevi-uster.ch
SUMMARY:AL-Höck
DESCRIPTION:
URL:https://www.cevi-uster.ch/event/al-hoeck-78/
CATEGORIES:AL-Team
END:VEVENT
BEGIN:VEVENT
DTSTART;TZID=Europe/Zurich:20260112T193000
DTEND;TZID=Europe/Zurich:20260112T213000
DTSTAMP:20260421T103222
CREATED:20251221T150931Z
LAST-MODIFIED:20251221T151629Z
UID:10000794-1768246200-1768253400@www.cevi-uster.ch
SUMMARY:Stulei Jahresplanung
DESCRIPTION:
URL:https://www.cevi-uster.ch/event/stulei-jahresplanung-2/
CATEGORIES:AL-Team,Stufenleiter
END:VEVENT
BEGIN:VEVENT
DTSTART;VALUE=DATE:20260117
DTEND;VALUE=DATE:20260118
DTSTAMP:20260421T103222
CREATED:20251221T151527Z
LAST-MODIFIED:20251221T151527Z
UID:10000796-1768608000-1768694399@www.cevi-uster.ch
SUMMARY:Cevi
DESCRIPTION:
URL:https://www.cevi-uster.ch/event/cevi-32/
CATEGORIES:Atlantis,Cherimoya,Damokles,Edregon,Izingo,Leiter,Manitu,Midgard,Pamoja,Sentiero,Stufen / Kids,Stufenleiter,Tiaki,Yaqqa
END:VEVENT
BEGIN:VEVENT
DTSTART;TZID=Europe/Zurich:20260117T140000
DTEND;TZID=Europe/Zurich:20260117T163000
DTSTAMP:20260421T103222
CREATED:20251221T151216Z
LAST-MODIFIED:20251221T151216Z
UID:10000795-1768658400-1768667400@www.cevi-uster.ch
SUMMARY:Fröschli
DESCRIPTION:
URL:https://www.cevi-uster.ch/event/froeschli-40/
CATEGORIES:Fröschli
END:VEVENT
BEGIN:VEVENT
DTSTART;TZID=Europe/Zurich:20260123T170000
DTEND;TZID=Europe/Zurich:20260125T190000
DTSTAMP:20260421T103222
CREATED:20251221T152330Z
LAST-MODIFIED:20251221T152330Z
UID:10000797-1769187600-1769367600@www.cevi-uster.ch
SUMMARY:Winterweekend Lenzerheide
DESCRIPTION:
URL:https://www.cevi-uster.ch/event/winterweekend-lenzerheide-2/
CATEGORIES:Leiter,Stufenleiter
END:VEVENT
BEGIN:VEVENT
DTSTART;TZID=Europe/Zurich:20260129T183000
DTEND;TZID=Europe/Zurich:20260129T200000
DTSTAMP:20260421T103222
CREATED:20260118T184110Z
LAST-MODIFIED:20260126T222942Z
UID:10000888-1769711400-1769716800@www.cevi-uster.ch
SUMMARY:ABGESAGT; Schoggisafari
DESCRIPTION:Die Schoggisafari ist abgesagt! \n  \nKosten: CHF 25.- plus Anreise \n  \nTreffpunkt: 18.30 Uhr\, Butzenstrasse 60 \n8038 Zürich (17.36 ab Uster) \n  \nDauer: Die Führung dauert 60 min. \n  \nAnmeldeschluss: 21. Januar 2026
URL:https://www.cevi-uster.ch/event/schoggisafari/
LOCATION:Butzenstrasse 60  8038 Zürich
CATEGORIES:Cevi-E,Cevi-E Treff
END:VEVENT
BEGIN:VEVENT
DTSTART;VALUE=DATE:20260131
DTEND;VALUE=DATE:20260201
DTSTAMP:20260421T103222
CREATED:20251221T152409Z
LAST-MODIFIED:20251221T152409Z
UID:10000798-1769817600-1769903999@www.cevi-uster.ch
SUMMARY:Cevi
DESCRIPTION:
URL:https://www.cevi-uster.ch/event/cevi-151/
CATEGORIES:Atlantis,Cherimoya,Damokles,Edregon,Izingo,Leiter,Manitu,Midgard,Pamoja,Sentiero,Stufen / Kids,Stufenleiter,Tiaki,Yaqqa
END:VEVENT
END:VCALENDAR