BEGIN:VCALENDAR
VERSION:2.0
PRODID:-//Cevi Uster - ECPv6.15.17.1//NONSGML v1.0//EN
CALSCALE:GREGORIAN
METHOD:PUBLISH
X-ORIGINAL-URL:https://www.cevi-uster.ch
X-WR-CALDESC:Veranstaltungen für Cevi Uster
REFRESH-INTERVAL;VALUE=DURATION:PT1H
X-Robots-Tag:noindex
X-PUBLISHED-TTL:PT1H
BEGIN:VTIMEZONE
TZID:Europe/Zurich
BEGIN:DAYLIGHT
TZOFFSETFROM:+0100
TZOFFSETTO:+0200
TZNAME:CEST
DTSTART:20180325T010000
END:DAYLIGHT
BEGIN:STANDARD
TZOFFSETFROM:+0200
TZOFFSETTO:+0100
TZNAME:CET
DTSTART:20181028T010000
END:STANDARD
BEGIN:DAYLIGHT
TZOFFSETFROM:+0100
TZOFFSETTO:+0200
TZNAME:CEST
DTSTART:20190331T010000
END:DAYLIGHT
BEGIN:STANDARD
TZOFFSETFROM:+0200
TZOFFSETTO:+0100
TZNAME:CET
DTSTART:20191027T010000
END:STANDARD
BEGIN:DAYLIGHT
TZOFFSETFROM:+0100
TZOFFSETTO:+0200
TZNAME:CEST
DTSTART:20200329T010000
END:DAYLIGHT
BEGIN:STANDARD
TZOFFSETFROM:+0200
TZOFFSETTO:+0100
TZNAME:CET
DTSTART:20201025T010000
END:STANDARD
END:VTIMEZONE
BEGIN:VEVENT
DTSTART;TZID=Europe/Zurich:20190511T160000
DTEND;TZID=Europe/Zurich:20190511T173000
DTSTAMP:20260419T182157
CREATED:20190411T084150Z
LAST-MODIFIED:20190411T201851Z
UID:10000157-1557590400-1557595800@www.cevi-uster.ch
SUMMARY:Elternnachmittag Stufe Tapioca
DESCRIPTION:Gerne laden wir euch zu einem Elternnachmittag ein an dem wir gemeinsam mit euch die Zukunft und die nächsten Meilensteine in der Cevi Karriere eurer Mädchen besprechen. \nDer Elternnachmittag wird anschliessend an das normale Ceviprogramm stattfinden. Da es um die Cevi Zukunft eurer Mädchen geht\, sind auch sie herzlich willkommen.
URL:https://www.cevi-uster.ch/event/elternanlass/
LOCATION:Harass\, Strussenweidweg 11\, Uster\, Zürich\, 8610\, Schweiz
END:VEVENT
END:VCALENDAR