BEGIN:VCALENDAR
VERSION:2.0
PRODID:-//Cevi Uster - ECPv6.15.17.1//NONSGML v1.0//EN
CALSCALE:GREGORIAN
METHOD:PUBLISH
X-ORIGINAL-URL:https://www.cevi-uster.ch
X-WR-CALDESC:Veranstaltungen für Cevi Uster
REFRESH-INTERVAL;VALUE=DURATION:PT1H
X-Robots-Tag:noindex
X-PUBLISHED-TTL:PT1H
BEGIN:VTIMEZONE
TZID:Europe/Zurich
BEGIN:DAYLIGHT
TZOFFSETFROM:+0100
TZOFFSETTO:+0200
TZNAME:CEST
DTSTART:20240331T010000
END:DAYLIGHT
BEGIN:STANDARD
TZOFFSETFROM:+0200
TZOFFSETTO:+0100
TZNAME:CET
DTSTART:20241027T010000
END:STANDARD
BEGIN:DAYLIGHT
TZOFFSETFROM:+0100
TZOFFSETTO:+0200
TZNAME:CEST
DTSTART:20250330T010000
END:DAYLIGHT
BEGIN:STANDARD
TZOFFSETFROM:+0200
TZOFFSETTO:+0100
TZNAME:CET
DTSTART:20251026T010000
END:STANDARD
BEGIN:DAYLIGHT
TZOFFSETFROM:+0100
TZOFFSETTO:+0200
TZNAME:CEST
DTSTART:20260329T010000
END:DAYLIGHT
BEGIN:STANDARD
TZOFFSETFROM:+0200
TZOFFSETTO:+0100
TZNAME:CET
DTSTART:20261025T010000
END:STANDARD
END:VTIMEZONE
BEGIN:VEVENT
DTSTART;TZID=Europe/Zurich:20250327T190000
DTEND;TZID=Europe/Zurich:20250327T203000
DTSTAMP:20260421T170352
CREATED:20250116T204734Z
LAST-MODIFIED:20250116T205234Z
UID:10000762-1743102000-1743107400@www.cevi-uster.ch
SUMMARY:Besuch Verkehrsleitzentrale der Sihltal Zürich Uetliberg Bahn
DESCRIPTION:Bei einem Besuch der Verkehrsleitzentrale der\nSihltal Zürich Uetliberg Bahn erfahren wir\, was es\nalles braucht\, damit ein Zug sicher und pünktlich von Zürich nach Sihlwald verkehren kann. \nKeine Kosten.
URL:https://www.cevi-uster.ch/event/besuch-verkehrsleitzentrale-der-sihltal-zuerich-uetliberg-bahn/
LOCATION:Bahnhof Zürich Giesshübel
CATEGORIES:Cevi-E,Cevi-E Treff
END:VEVENT
END:VCALENDAR