BEGIN:VCALENDAR
VERSION:2.0
PRODID:-//Cevi Uster - ECPv6.15.17.1//NONSGML v1.0//EN
CALSCALE:GREGORIAN
METHOD:PUBLISH
X-WR-CALNAME:Cevi Uster
X-ORIGINAL-URL:https://www.cevi-uster.ch
X-WR-CALDESC:Veranstaltungen für Cevi Uster
REFRESH-INTERVAL;VALUE=DURATION:PT1H
X-Robots-Tag:noindex
X-PUBLISHED-TTL:PT1H
BEGIN:VTIMEZONE
TZID:Europe/Zurich
BEGIN:DAYLIGHT
TZOFFSETFROM:+0100
TZOFFSETTO:+0200
TZNAME:CEST
DTSTART:20250330T010000
END:DAYLIGHT
BEGIN:STANDARD
TZOFFSETFROM:+0200
TZOFFSETTO:+0100
TZNAME:CET
DTSTART:20251026T010000
END:STANDARD
BEGIN:DAYLIGHT
TZOFFSETFROM:+0100
TZOFFSETTO:+0200
TZNAME:CEST
DTSTART:20260329T010000
END:DAYLIGHT
BEGIN:STANDARD
TZOFFSETFROM:+0200
TZOFFSETTO:+0100
TZNAME:CET
DTSTART:20261025T010000
END:STANDARD
BEGIN:DAYLIGHT
TZOFFSETFROM:+0100
TZOFFSETTO:+0200
TZNAME:CEST
DTSTART:20270328T010000
END:DAYLIGHT
BEGIN:STANDARD
TZOFFSETFROM:+0200
TZOFFSETTO:+0100
TZNAME:CET
DTSTART:20271031T010000
END:STANDARD
END:VTIMEZONE
BEGIN:VEVENT
DTSTART;TZID=Europe/Zurich:20260910T183000
DTEND;TZID=Europe/Zurich:20260910T183000
DTSTAMP:20260421T162828
CREATED:20260118T185934Z
LAST-MODIFIED:20260118T185934Z
UID:10000892-1789065000-1789065000@www.cevi-uster.ch
SUMMARY:Eat & Talk im Hut
DESCRIPTION:Wir lassen uns international kulinarisch verwöhnen. Das Restaurant Hut ist ein Sozialbetrieb des Vereins „DU für alle“. Es trägt dazu bei\, die Vielfalt der Menschen in Uster zu einem Teil unseres Alltags werden zu lassen. Menschen\, die aus verschiedenen Teilen der Welt nach Uster migriert sind\, kochen für die Gäste und bedienen sie herzlich. \nwww.restaurant-hut.ch \n  \n  \n  \n  \n  \n  \nKosten: individuell \n  \nTreffpunkt: 18.30 Uhr im Hut\, Bahnhofstr.18\, Uster
URL:https://www.cevi-uster.ch/event/eat-talk-im-hut/
LOCATION:im Hut\, Bahnhofstr.18\, Uster
CATEGORIES:Cevi-E,Cevi-E Treff
END:VEVENT
END:VCALENDAR