BEGIN:VCALENDAR
VERSION:2.0
PRODID:-//Cevi Uster - ECPv6.15.17.1//NONSGML v1.0//EN
CALSCALE:GREGORIAN
METHOD:PUBLISH
X-ORIGINAL-URL:https://www.cevi-uster.ch
X-WR-CALDESC:Veranstaltungen für Cevi Uster
REFRESH-INTERVAL;VALUE=DURATION:PT1H
X-Robots-Tag:noindex
X-PUBLISHED-TTL:PT1H
BEGIN:VTIMEZONE
TZID:Europe/Zurich
BEGIN:DAYLIGHT
TZOFFSETFROM:+0100
TZOFFSETTO:+0200
TZNAME:CEST
DTSTART:20220327T010000
END:DAYLIGHT
BEGIN:STANDARD
TZOFFSETFROM:+0200
TZOFFSETTO:+0100
TZNAME:CET
DTSTART:20221030T010000
END:STANDARD
BEGIN:DAYLIGHT
TZOFFSETFROM:+0100
TZOFFSETTO:+0200
TZNAME:CEST
DTSTART:20230326T010000
END:DAYLIGHT
BEGIN:STANDARD
TZOFFSETFROM:+0200
TZOFFSETTO:+0100
TZNAME:CET
DTSTART:20231029T010000
END:STANDARD
BEGIN:DAYLIGHT
TZOFFSETFROM:+0100
TZOFFSETTO:+0200
TZNAME:CEST
DTSTART:20240331T010000
END:DAYLIGHT
BEGIN:STANDARD
TZOFFSETFROM:+0200
TZOFFSETTO:+0100
TZNAME:CET
DTSTART:20241027T010000
END:STANDARD
END:VTIMEZONE
BEGIN:VEVENT
DTSTART;TZID=Europe/Zurich:20230511T184500
DTEND;TZID=Europe/Zurich:20230511T184500
DTSTAMP:20260422T112834
CREATED:20221127T220736Z
LAST-MODIFIED:20221127T221504Z
UID:10000539-1683830700-1683830700@www.cevi-uster.ch
SUMMARY:Gewürzworkshop in der Gewürzmanufaktur Würzmeister
DESCRIPTION:Wir tauchen ein in die Welt der Gewürze:\nVon der Auswahl der Zutaten\, über deren Verarbeitung\, bis hin zum fertigen Gewürz. Ein feiner Drink gehört dazu und jeder stellt seine persönliche Gewürzmischung zusammen. Daneben erfahren wir Interessantes über die Firma Würzmeister und ihr eindrückliches soziales Engagement.\nwww.wuerzmeister.ch \nKosten: Fr. 49.– \nTreffpunkt: 18.45 Uhr beim Würzmeister\,\nGerbegasse 10\, 8302 Kloten \nAnmeldeschluss: 27.4.2023
URL:https://www.cevi-uster.ch/event/gewuerzworkshop-in-der-gewuerzmanufaktur-wuerzmeister/
LOCATION:Würzmeister\, Gerbegasse 10\, 8302 Kloten
CATEGORIES:Cevi-E,Cevi-E Treff
ORGANIZER;CN="Cevi-E":MAILTO:cevi-e.uster@cevi.ch
END:VEVENT
END:VCALENDAR